BEGIN:VCALENDAR
VERSION:2.0
PRODID:-//PIATA - ECPv6.15.11//NONSGML v1.0//EN
CALSCALE:GREGORIAN
METHOD:PUBLISH
X-WR-CALNAME:PIATA
X-ORIGINAL-URL:https://tamachi-piata.com
X-WR-CALDESC:PIATA のイベント
REFRESH-INTERVAL;VALUE=DURATION:PT1H
X-Robots-Tag:noindex
X-PUBLISHED-TTL:PT1H
BEGIN:VTIMEZONE
TZID:Asia/Tokyo
BEGIN:STANDARD
TZOFFSETFROM:+0900
TZOFFSETTO:+0900
TZNAME:JST
DTSTART:20240101T000000
END:STANDARD
END:VTIMEZONE
BEGIN:VEVENT
DTSTART;TZID=Asia/Tokyo:20250516T110000
DTEND;TZID=Asia/Tokyo:20250516T190000
DTSTAMP:20260422T153144
CREATED:20250929T065616Z
LAST-MODIFIED:20250929T065616Z
UID:1795-1747393200-1747422000@tamachi-piata.com
SUMMARY:第3回とうきょうグルメマーケット開催!!
DESCRIPTION:日本各地の飲食物を楽しめる「第3回とうきょうグルメマーケット」が開催決定！ \n飲んで食べて遊んで学べる！イベントです。 \n\n\n\n\n\n\n【開催概要】\n日時：2025年5月16日（金）17日（土）　11:00～19:00　\n※雨天決行。荒天により中止の場合もあり。\n会場：田町センタービル・新田町ビル間通路/田町センタービルピアタ前\n〒108-0014 東京都港区芝5-34-7\n（最寄駅：JR山手線・京浜東北線田町駅、都営地下鉄三田線・浅草線三田駅から徒歩1分）\n入場料：無料　\n主催：株式会社田町ビル・田町センタービルPIATA\n企画運営：合同会社NIPPON TABERU TIMES\n  \n\n\n\n\n詳細はこちら
URL:https://tamachi-piata.com/event/%e7%ac%ac3%e5%9b%9e%e3%81%a8%e3%81%86%e3%81%8d%e3%82%87%e3%81%86%e3%82%b0%e3%83%ab%e3%83%a1%e3%83%9e%e3%83%bc%e3%82%b1%e3%83%83%e3%83%88%e9%96%8b%e5%82%ac/
LOCATION:田町センタービル・新田町ビル間通路/田町センタービルピアタ前\, 東京都港区芝5-34-7
END:VEVENT
END:VCALENDAR