BEGIN:VCALENDAR
VERSION:2.0
PRODID:-//PIATA - ECPv6.15.11//NONSGML v1.0//EN
CALSCALE:GREGORIAN
METHOD:PUBLISH
X-WR-CALNAME:PIATA
X-ORIGINAL-URL:https://tamachi-piata.com
X-WR-CALDESC:PIATA のイベント
REFRESH-INTERVAL;VALUE=DURATION:PT1H
X-Robots-Tag:noindex
X-PUBLISHED-TTL:PT1H
BEGIN:VTIMEZONE
TZID:Asia/Tokyo
BEGIN:STANDARD
TZOFFSETFROM:+0900
TZOFFSETTO:+0900
TZNAME:JST
DTSTART:20240101T000000
END:STANDARD
END:VTIMEZONE
BEGIN:VEVENT
DTSTART;TZID=Asia/Tokyo:20250701T090000
DTEND;TZID=Asia/Tokyo:20250707T230000
DTSTAMP:20260424T091946
CREATED:20250929T045826Z
LAST-MODIFIED:20250929T045826Z
UID:1769-1751360400-1751929200@tamachi-piata.com
SUMMARY:七夕飾り開催中！！
DESCRIPTION:今年もピアタに七夕の季節がやってきました！ \nただいま、ピアタ1階・2階に笹の枝を設置しています。ご自由に短冊に願いごとを書いて、笹に飾ってください。みなさまの願いが星空に届きますように \nお買い物の合間に、ぜひご参加ください！みなさまのご来館を心よりお待ちしております。
URL:https://tamachi-piata.com/event/%e4%b8%83%e5%a4%95%e9%a3%be%e3%82%8a%e9%96%8b%e5%82%ac%e4%b8%ad%ef%bc%81%ef%bc%81/
LOCATION:田町センタービルピアタ館内
END:VEVENT
BEGIN:VEVENT
DTSTART;TZID=Asia/Tokyo:20250724T040000
DTEND;TZID=Asia/Tokyo:20250724T090000
DTSTAMP:20260424T091946
CREATED:20250929T045400Z
LAST-MODIFIED:20250929T050624Z
UID:1755-1753329600-1753347600@tamachi-piata.com
SUMMARY:Tamachi Tiny Night Market開催!!
DESCRIPTION:ふらっと立ち寄れる小さなマーケットが田町センタービルと新田町ビルの間通路で開催されます。 \n今月はナイトマーケット。毎月完売するスイーツや個性あふれる雑貨などを楽しむことができます。 \nゲストとしてDJも登場！！
URL:https://tamachi-piata.com/event/20250724_tamachi-tiny-night-market/
LOCATION:田町センタービルと新田町ビル間通路
END:VEVENT
BEGIN:VEVENT
DTSTART;TZID=Asia/Tokyo:20250725T160000
DTEND;TZID=Asia/Tokyo:20250725T210000
DTSTAMP:20260424T091946
CREATED:20250929T051057Z
LAST-MODIFIED:20250929T051317Z
UID:1782-1753459200-1753477200@tamachi-piata.com
SUMMARY:Tamachi Tiny Night Market開催!!
DESCRIPTION:ふらっと立ち寄れる小さなマーケットが田町センタービルと新田町ビルの間通路で開催されます。 \n今月はナイトマーケット。毎月完売するスイーツや個性あふれる雑貨などを楽しむことができます。 \nゲストとしてDJも登場！！
URL:https://tamachi-piata.com/event/20250725_tamachi-tiny-night-market/
LOCATION:田町センタービルと新田町ビル間通路
END:VEVENT
END:VCALENDAR