BEGIN:VCALENDAR
VERSION:2.0
PRODID:-//PIATA - ECPv6.15.11//NONSGML v1.0//EN
CALSCALE:GREGORIAN
METHOD:PUBLISH
X-WR-CALNAME:PIATA
X-ORIGINAL-URL:https://tamachi-piata.com
X-WR-CALDESC:PIATA のイベント
REFRESH-INTERVAL;VALUE=DURATION:PT1H
X-Robots-Tag:noindex
X-PUBLISHED-TTL:PT1H
BEGIN:VTIMEZONE
TZID:Asia/Tokyo
BEGIN:STANDARD
TZOFFSETFROM:+0900
TZOFFSETTO:+0900
TZNAME:JST
DTSTART:20240101T000000
END:STANDARD
END:VTIMEZONE
BEGIN:VEVENT
DTSTART;TZID=Asia/Tokyo:20250821T160000
DTEND;TZID=Asia/Tokyo:20250821T210000
DTSTAMP:20260424T073053
CREATED:20250929T044810Z
LAST-MODIFIED:20250929T044810Z
UID:1753-1755792000-1755810000@tamachi-piata.com
SUMMARY:初開催！田町駅前夏まつり
DESCRIPTION:2025年8月21日（木） 開催決定！\nこの夏、田町駅前で初めてとなる夏まつりを開催します！地域の皆さまに楽しんでいただけるよう、ステージイベントや屋台、ランタン作り、花釣りコーナーなど、盛りだくさんの内容をご用意しています。子どもから大人まで楽しめる夏の一日を、ぜひ田町でお過ごしください！ \n■ 開催概要 \n　日時：2025年8月21日（木）16:00～21:00 \n　会場：田町駅１Ｆ西口ロータリー（ピアタ前広場） \n■ 主催：田町センタービルピアタ会 \n■ 協力：株式会社田町ビル・株式会社田町商栄会・田町センタービル管理株式会社
URL:https://tamachi-piata.com/event/%e5%88%9d%e9%96%8b%e5%82%ac%ef%bc%81%e7%94%b0%e7%94%ba%e9%a7%85%e5%89%8d%e5%a4%8f%e3%81%be%e3%81%a4%e3%82%8a/
END:VEVENT
END:VCALENDAR