BEGIN:VCALENDAR
VERSION:2.0
PRODID:-//PIATA - ECPv6.15.11//NONSGML v1.0//EN
CALSCALE:GREGORIAN
METHOD:PUBLISH
X-ORIGINAL-URL:https://tamachi-piata.com
X-WR-CALDESC:PIATA のイベント
REFRESH-INTERVAL;VALUE=DURATION:PT1H
X-Robots-Tag:noindex
X-PUBLISHED-TTL:PT1H
BEGIN:VTIMEZONE
TZID:Asia/Tokyo
BEGIN:STANDARD
TZOFFSETFROM:+0900
TZOFFSETTO:+0900
TZNAME:JST
DTSTART:20240101T000000
END:STANDARD
END:VTIMEZONE
BEGIN:VEVENT
DTSTART;TZID=Asia/Tokyo:20251120T110000
DTEND;TZID=Asia/Tokyo:20251120T200000
DTSTAMP:20260424T015917
CREATED:20251125T014228Z
LAST-MODIFIED:20251125T074832Z
UID:2683-1763636400-1763668800@tamachi-piata.com
SUMMARY:TAMACHI FOOD GARDEN
DESCRIPTION: TAMACHI FOOD GARDEN\n田町の”おいしい”が大集結！ \n🕒 開催時間： 11:00 ～ 20:00📍 場所： 田町タワー前広場 \n \n詳しくはこちら
URL:https://tamachi-piata.com/event/tamachi-food-garden/
LOCATION:田町タワー\, 東京都港区芝５丁目33番11号
END:VEVENT
BEGIN:VEVENT
DTSTART;TZID=Asia/Tokyo:20251127T000000
DTEND;TZID=Asia/Tokyo:20251127T190000
DTSTAMP:20260424T015917
CREATED:20251125T075837Z
LAST-MODIFIED:20251125T075933Z
UID:2706-1764201600-1764270000@tamachi-piata.com
SUMMARY:Tamachi Tiny Market
DESCRIPTION:ふらっと立ち寄れる小さなマーケットが田町センタービルと新田町ビルの間通路で開催されます。 \nスイーツや個性あふれる雑貨などを楽しむことができます。
URL:https://tamachi-piata.com/event/2706/
LOCATION:田町センタービルと新田町ビル間通路
END:VEVENT
BEGIN:VEVENT
DTSTART;TZID=Asia/Tokyo:20251128T120000
DTEND;TZID=Asia/Tokyo:20251128T190000
DTSTAMP:20260424T015917
CREATED:20251125T075953Z
LAST-MODIFIED:20251125T080022Z
UID:2713-1764331200-1764356400@tamachi-piata.com
SUMMARY:Tamachi Tiny Market
DESCRIPTION:ふらっと立ち寄れる小さなマーケットが田町センタービルと新田町ビルの間通路で開催されます。 \nスイーツや個性あふれる雑貨などを楽しむことができます。
URL:https://tamachi-piata.com/event/tamachi-tiny-market-3/
LOCATION:田町センタービルと新田町ビル間通路
END:VEVENT
END:VCALENDAR